BEGIN:VCALENDAR
VERSION:2.0
PRODID:-//Glasstronomy Studios - ECPv6.15.20//NONSGML v1.0//EN
CALSCALE:GREGORIAN
METHOD:PUBLISH
X-ORIGINAL-URL:https://glasstronomystudios.ca
X-WR-CALDESC:Events for Glasstronomy Studios
REFRESH-INTERVAL;VALUE=DURATION:PT1H
X-Robots-Tag:noindex
X-PUBLISHED-TTL:PT1H
BEGIN:VTIMEZONE
TZID:America/Toronto
BEGIN:DAYLIGHT
TZOFFSETFROM:-0500
TZOFFSETTO:-0400
TZNAME:EDT
DTSTART:20250309T070000
END:DAYLIGHT
BEGIN:STANDARD
TZOFFSETFROM:-0400
TZOFFSETTO:-0500
TZNAME:EST
DTSTART:20251102T060000
END:STANDARD
BEGIN:DAYLIGHT
TZOFFSETFROM:-0500
TZOFFSETTO:-0400
TZNAME:EDT
DTSTART:20260308T070000
END:DAYLIGHT
BEGIN:STANDARD
TZOFFSETFROM:-0400
TZOFFSETTO:-0500
TZNAME:EST
DTSTART:20261101T060000
END:STANDARD
BEGIN:DAYLIGHT
TZOFFSETFROM:-0500
TZOFFSETTO:-0400
TZNAME:EDT
DTSTART:20270314T070000
END:DAYLIGHT
BEGIN:STANDARD
TZOFFSETFROM:-0400
TZOFFSETTO:-0500
TZNAME:EST
DTSTART:20271107T060000
END:STANDARD
END:VTIMEZONE
BEGIN:VEVENT
DTSTART;TZID=America/Toronto:20260606T130000
DTEND;TZID=America/Toronto:20260606T160000
DTSTAMP:20260424T204816
CREATED:20260318T110028Z
LAST-MODIFIED:20260318T194543Z
UID:6793-1780750800-1780761600@glasstronomystudios.ca
SUMMARY:WORKSHOP | G319 | Faerie series\, III | Magical mushroom mosaics
DESCRIPTION:
URL:https://glasstronomystudios.ca/event/workshop-g319-faerie-series-iii-magical-mushroom-mosaics/
LOCATION:Glasstronomy Studios\, 2600 John St.\, Unit 108\, Markham\, ON\, L3R 3W3\, Canada
CATEGORIES:Workshops
ATTACH;FMTTYPE=image/jpeg:https://glasstronomystudios.ca/wp-content/uploads/2026/03/G319-Beginner_mosaic_glass-Magic_mushrooms-scaled.jpg
ORGANIZER;CN="Glasstronomy Studios":MAILTO:info@glasstronomystudios.ca
END:VEVENT
BEGIN:VEVENT
DTSTART;TZID=America/Toronto:20260612T190000
DTEND;TZID=America/Toronto:20260612T210000
DTSTAMP:20260424T204816
CREATED:20260318T111602Z
LAST-MODIFIED:20260318T111602Z
UID:6799-1781290800-1781298000@glasstronomystudios.ca
SUMMARY:WORKSHOP | B245S | Beginner copper foil social: Squared
DESCRIPTION:
URL:https://glasstronomystudios.ca/event/workshop-b245s-beginner-copper-foil-social-squared-2/
LOCATION:Glasstronomy Studios\, 2600 John St.\, Unit 108\, Markham\, ON\, L3R 3W3\, Canada
CATEGORIES:Workshops
ATTACH;FMTTYPE=image/jpeg:https://glasstronomystudios.ca/wp-content/uploads/2026/03/B245-Beginner_copper_foil_social-Squared.jpg
ORGANIZER;CN="Glasstronomy Studios":MAILTO:info@glasstronomystudios.ca
END:VEVENT
END:VCALENDAR