BEGIN:VCALENDAR
VERSION:2.0
PRODID:-//Glasstronomy Studios - ECPv6.15.20//NONSGML v1.0//EN
CALSCALE:GREGORIAN
METHOD:PUBLISH
X-ORIGINAL-URL:https://glasstronomystudios.ca
X-WR-CALDESC:Events for Glasstronomy Studios
REFRESH-INTERVAL;VALUE=DURATION:PT1H
X-Robots-Tag:noindex
X-PUBLISHED-TTL:PT1H
BEGIN:VTIMEZONE
TZID:America/Toronto
BEGIN:DAYLIGHT
TZOFFSETFROM:-0500
TZOFFSETTO:-0400
TZNAME:EDT
DTSTART:20250309T070000
END:DAYLIGHT
BEGIN:STANDARD
TZOFFSETFROM:-0400
TZOFFSETTO:-0500
TZNAME:EST
DTSTART:20251102T060000
END:STANDARD
BEGIN:DAYLIGHT
TZOFFSETFROM:-0500
TZOFFSETTO:-0400
TZNAME:EDT
DTSTART:20260308T070000
END:DAYLIGHT
BEGIN:STANDARD
TZOFFSETFROM:-0400
TZOFFSETTO:-0500
TZNAME:EST
DTSTART:20261101T060000
END:STANDARD
BEGIN:DAYLIGHT
TZOFFSETFROM:-0500
TZOFFSETTO:-0400
TZNAME:EDT
DTSTART:20270314T070000
END:DAYLIGHT
BEGIN:STANDARD
TZOFFSETFROM:-0400
TZOFFSETTO:-0500
TZNAME:EST
DTSTART:20271107T060000
END:STANDARD
END:VTIMEZONE
BEGIN:VEVENT
DTSTART;TZID=America/Toronto:20260502T100000
DTEND;TZID=America/Toronto:20260502T150000
DTSTAMP:20260424T173449
CREATED:20260318T103155Z
LAST-MODIFIED:20260318T190145Z
UID:6775-1777716000-1777734000@glasstronomystudios.ca
SUMMARY:WORKSHOP | I464 | Glass Ikebana: Harmony in form and light
DESCRIPTION:
URL:https://glasstronomystudios.ca/event/workshop-i464-glass-ikebana-harmony-in-form-and-light/
LOCATION:Glasstronomy Studios\, 2600 John St.\, Unit 108\, Markham\, ON\, L3R 3W3\, Canada
CATEGORIES:Beginners,Workshops
ATTACH;FMTTYPE=image/jpeg:https://glasstronomystudios.ca/wp-content/uploads/2026/03/I464-Fusing_fun-Ikebana-scaled.jpg
ORGANIZER;CN="Glasstronomy Studios":MAILTO:info@glasstronomystudios.ca
END:VEVENT
END:VCALENDAR