BEGIN:VCALENDAR
VERSION:2.0
PRODID:-//Glasstronomy Studios - ECPv6.15.20//NONSGML v1.0//EN
CALSCALE:GREGORIAN
METHOD:PUBLISH
X-WR-CALNAME:Glasstronomy Studios
X-ORIGINAL-URL:https://glasstronomystudios.ca
X-WR-CALDESC:Events for Glasstronomy Studios
REFRESH-INTERVAL;VALUE=DURATION:PT1H
X-Robots-Tag:noindex
X-PUBLISHED-TTL:PT1H
BEGIN:VTIMEZONE
TZID:America/Toronto
BEGIN:DAYLIGHT
TZOFFSETFROM:-0500
TZOFFSETTO:-0400
TZNAME:EDT
DTSTART:20250309T070000
END:DAYLIGHT
BEGIN:STANDARD
TZOFFSETFROM:-0400
TZOFFSETTO:-0500
TZNAME:EST
DTSTART:20251102T060000
END:STANDARD
BEGIN:DAYLIGHT
TZOFFSETFROM:-0500
TZOFFSETTO:-0400
TZNAME:EDT
DTSTART:20260308T070000
END:DAYLIGHT
BEGIN:STANDARD
TZOFFSETFROM:-0400
TZOFFSETTO:-0500
TZNAME:EST
DTSTART:20261101T060000
END:STANDARD
BEGIN:DAYLIGHT
TZOFFSETFROM:-0500
TZOFFSETTO:-0400
TZNAME:EDT
DTSTART:20270314T070000
END:DAYLIGHT
BEGIN:STANDARD
TZOFFSETFROM:-0400
TZOFFSETTO:-0500
TZNAME:EST
DTSTART:20271107T060000
END:STANDARD
END:VTIMEZONE
BEGIN:VEVENT
DTSTART;TZID=America/Toronto:20260425T100000
DTEND;TZID=America/Toronto:20260425T160000
DTSTAMP:20260424T122140
CREATED:20260318T102637Z
LAST-MODIFIED:20260318T184748Z
UID:6771-1777111200-1777132800@glasstronomystudios.ca
SUMMARY:WORKSHOP | G317 | Beginner glass fusing: Pendant party
DESCRIPTION:
URL:https://glasstronomystudios.ca/event/workshop-g317-beginner-glass-fusing-pendant-party/
LOCATION:Glasstronomy Studios\, 2600 John St.\, Unit 108\, Markham\, ON\, L3R 3W3\, Canada
CATEGORIES:Beginners,Workshops
ATTACH;FMTTYPE=image/jpeg:https://glasstronomystudios.ca/wp-content/uploads/2026/03/G317-Beginner_glass_fusing-Pendant_partyD.jpg
ORGANIZER;CN="Glasstronomy Studios":MAILTO:info@glasstronomystudios.ca
END:VEVENT
BEGIN:VEVENT
DTSTART;TZID=America/Toronto:20260425T130000
DTEND;TZID=America/Toronto:20260425T160000
DTSTAMP:20260424T122140
CREATED:20260318T102904Z
LAST-MODIFIED:20260318T185432Z
UID:6773-1777122000-1777132800@glasstronomystudios.ca
SUMMARY:WORKSHOP | G320 | Fused glass landscape: Translating nature into kiln-formed imagery
DESCRIPTION:
URL:https://glasstronomystudios.ca/event/workshop-g320-fused-glass-landscape-translating-nature-into-kiln-formed-imagery/
LOCATION:Glasstronomy Studios\, 2600 John St.\, Unit 108\, Markham\, ON\, L3R 3W3\, Canada
CATEGORIES:Beginners,Workshops
ATTACH;FMTTYPE=image/jpeg:https://glasstronomystudios.ca/wp-content/uploads/2026/03/G209-Fused_glass-Mini_landscapeH-scaled.jpg
ORGANIZER;CN="Glasstronomy Studios":MAILTO:info@glasstronomystudios.ca
END:VEVENT
BEGIN:VEVENT
DTSTART;TZID=America/Toronto:20260428T190000
DTEND;TZID=America/Toronto:20260428T220000
DTSTAMP:20260424T122140
CREATED:20260318T113743Z
LAST-MODIFIED:20260318T113743Z
UID:6807-1777402800-1777413600@glasstronomystudios.ca
SUMMARY:Tuesday | Studio time
DESCRIPTION:
URL:https://glasstronomystudios.ca/event/tuesday-studio-time-34/
LOCATION:Glasstronomy Studios\, 2600 John St.\, Unit 108\, Markham\, ON\, L3R 3W3\, Canada
CATEGORIES:Tuesday | Studio time
ATTACH;FMTTYPE=image/jpeg:https://glasstronomystudios.ca/wp-content/uploads/2019/11/G114.jpg
ORGANIZER;CN="Glasstronomy Studios":MAILTO:info@glasstronomystudios.ca
END:VEVENT
BEGIN:VEVENT
DTSTART;TZID=America/Toronto:20260430T130000
DTEND;TZID=America/Toronto:20260430T160000
DTSTAMP:20260424T122140
CREATED:20260318T201610Z
LAST-MODIFIED:20260318T201610Z
UID:6865-1777554000-1777564800@glasstronomystudios.ca
SUMMARY:Thursday | Studio time
DESCRIPTION:
URL:https://glasstronomystudios.ca/event/thursday-studio-time-30/
LOCATION:Glasstronomy Studios\, 2600 John St.\, Unit 108\, Markham\, ON\, L3R 3W3\, Canada
CATEGORIES:Thursday | Studio time
ATTACH;FMTTYPE=image/jpeg:https://glasstronomystudios.ca/wp-content/uploads/2018/08/G114_Open_studio2.jpg
ORGANIZER;CN="Glasstronomy Studios":MAILTO:info@glasstronomystudios.ca
END:VEVENT
BEGIN:VEVENT
DTSTART;TZID=America/Toronto:20260430T190000
DTEND;TZID=America/Toronto:20260430T220000
DTSTAMP:20260424T122140
CREATED:20260318T095053Z
LAST-MODIFIED:20260318T200332Z
UID:6751-1777575600-1777586400@glasstronomystudios.ca
SUMMARY:COURSE | G312 | Fused glass mosaic: Wall planter or tealight holder
DESCRIPTION:
URL:https://glasstronomystudios.ca/event/course-g312-fused-glass-mosaic-wall-planter-or-tealight-holder-4/
LOCATION:Glasstronomy Studios\, 2600 John St.\, Unit 108\, Markham\, ON\, L3R 3W3\, Canada
CATEGORIES:Courses
ATTACH;FMTTYPE=image/jpeg:https://glasstronomystudios.ca/wp-content/uploads/2026/03/G312-Fused_glass_mosaic-Wall_planter_or_tea-light_holderG-scaled.jpg
ORGANIZER;CN="Glasstronomy Studios":MAILTO:info@glasstronomystudios.ca
END:VEVENT
END:VCALENDAR