BEGIN:VCALENDAR
VERSION:2.0
PRODID:-//Glasstronomy Studios - ECPv6.15.20//NONSGML v1.0//EN
CALSCALE:GREGORIAN
METHOD:PUBLISH
X-ORIGINAL-URL:https://glasstronomystudios.ca
X-WR-CALDESC:Events for Glasstronomy Studios
REFRESH-INTERVAL;VALUE=DURATION:PT1H
X-Robots-Tag:noindex
X-PUBLISHED-TTL:PT1H
BEGIN:VTIMEZONE
TZID:America/Toronto
BEGIN:DAYLIGHT
TZOFFSETFROM:-0500
TZOFFSETTO:-0400
TZNAME:EDT
DTSTART:20240310T070000
END:DAYLIGHT
BEGIN:STANDARD
TZOFFSETFROM:-0400
TZOFFSETTO:-0500
TZNAME:EST
DTSTART:20241103T060000
END:STANDARD
BEGIN:DAYLIGHT
TZOFFSETFROM:-0500
TZOFFSETTO:-0400
TZNAME:EDT
DTSTART:20250309T070000
END:DAYLIGHT
BEGIN:STANDARD
TZOFFSETFROM:-0400
TZOFFSETTO:-0500
TZNAME:EST
DTSTART:20251102T060000
END:STANDARD
BEGIN:DAYLIGHT
TZOFFSETFROM:-0500
TZOFFSETTO:-0400
TZNAME:EDT
DTSTART:20260308T070000
END:DAYLIGHT
BEGIN:STANDARD
TZOFFSETFROM:-0400
TZOFFSETTO:-0500
TZNAME:EST
DTSTART:20261101T060000
END:STANDARD
END:VTIMEZONE
BEGIN:VEVENT
DTSTART;TZID=America/Toronto:20251002T130000
DTEND;TZID=America/Toronto:20251002T160000
DTSTAMP:20260424T213946
CREATED:20251016T013903Z
LAST-MODIFIED:20251016T013903Z
UID:6237-1759410000-1759420800@glasstronomystudios.ca
SUMMARY:Thursday | Studio time
DESCRIPTION:
URL:https://glasstronomystudios.ca/event/thursday-studio-time-4/
LOCATION:Glasstronomy Studios\, 2600 John St.\, Unit 108\, Markham\, ON\, L3R 3W3\, Canada
CATEGORIES:Thursday | Studio time
ATTACH;FMTTYPE=image/jpeg:https://glasstronomystudios.ca/wp-content/uploads/2015/03/G114.jpg
ORGANIZER;CN="Glasstronomy Studios":MAILTO:info@glasstronomystudios.ca
END:VEVENT
BEGIN:VEVENT
DTSTART;TZID=America/Toronto:20251002T190000
DTEND;TZID=America/Toronto:20251002T220000
DTSTAMP:20260424T213946
CREATED:20251015T191814Z
LAST-MODIFIED:20251015T205536Z
UID:6136-1759431600-1759442400@glasstronomystudios.ca
SUMMARY:Course | B238 | Beginner/Intermediate stained glass: Copper foil and lead combination technique (September 25\, October 2\, 9\, 16\, 23\, and 30\, 2025)
DESCRIPTION:
URL:https://glasstronomystudios.ca/event/course-b238-beginner-intermediate-stained-glass-copper-foil-and-lead-combination-technique-september-25-october-2-9-16-23-and-30-2025/
LOCATION:ON
CATEGORIES:Courses
ORGANIZER;CN="Glasstronomy Studios":MAILTO:info@glasstronomystudios.ca
END:VEVENT
BEGIN:VEVENT
DTSTART;TZID=America/Toronto:20251004T100000
DTEND;TZID=America/Toronto:20251004T120000
DTSTAMP:20260424T213946
CREATED:20251015T224448Z
LAST-MODIFIED:20251015T224448Z
UID:6191-1759572000-1759579200@glasstronomystudios.ca
SUMMARY:Workshop | G307 | Fusing fun: Blingified pendant making (October 4\, 2025)
DESCRIPTION:
URL:https://glasstronomystudios.ca/event/workshop-g307-fusing-fun-blingified-pendant-making-october-4-2025/
LOCATION:ON
CATEGORIES:Workshops
ATTACH;FMTTYPE=image/jpeg:https://glasstronomystudios.ca/wp-content/uploads/2025/10/G307-Blingified_pendant_making-scaled.jpg
END:VEVENT
BEGIN:VEVENT
DTSTART;TZID=America/Toronto:20251004T130000
DTEND;TZID=America/Toronto:20251004T160000
DTSTAMP:20260424T213946
CREATED:20251015T224702Z
LAST-MODIFIED:20251015T224702Z
UID:6193-1759582800-1759593600@glasstronomystudios.ca
SUMMARY:Workshop | G302 | All about Glassline with Millean Kung (October 4\, 2025)
DESCRIPTION:
URL:https://glasstronomystudios.ca/event/workshop-g302-all-about-glassline-with-millean-kung-october-4-2025/
LOCATION:Glasstronomy Studios\, 2600 John St.\, Unit 108\, Markham\, ON\, L3R 3W3\, Canada
CATEGORIES:Workshops
ATTACH;FMTTYPE=image/jpeg:https://glasstronomystudios.ca/wp-content/uploads/2025/10/G302-Glassline-scaled.jpg
ORGANIZER;CN="Glasstronomy Studios":MAILTO:info@glasstronomystudios.ca
END:VEVENT
BEGIN:VEVENT
DTSTART;TZID=America/Toronto:20251007T190000
DTEND;TZID=America/Toronto:20251007T220000
DTSTAMP:20260424T213946
CREATED:20251015T231750Z
LAST-MODIFIED:20251015T231750Z
UID:6212-1759863600-1759874400@glasstronomystudios.ca
SUMMARY:Tuesday | Studio time
DESCRIPTION:
URL:https://glasstronomystudios.ca/event/tuesday-studio-time-7/
LOCATION:Glasstronomy Studios\, 2600 John St.\, Unit 108\, Markham\, ON\, L3R 3W3\, Canada
CATEGORIES:Tuesday | Studio time
ATTACH;FMTTYPE=image/jpeg:https://glasstronomystudios.ca/wp-content/uploads/2019/11/G114.jpg
ORGANIZER;CN="Glasstronomy Studios":MAILTO:info@glasstronomystudios.ca
END:VEVENT
BEGIN:VEVENT
DTSTART;TZID=America/Toronto:20251009T110000
DTEND;TZID=America/Toronto:20251009T120000
DTSTAMP:20260424T213946
CREATED:20251015T213111Z
LAST-MODIFIED:20251015T215924Z
UID:6163-1760007600-1760011200@glasstronomystudios.ca
SUMMARY:SBAM II | Meeting
DESCRIPTION:
URL:https://glasstronomystudios.ca/event/sbam-ii-meeting/
LOCATION:Glasstronomy Studios\, 2600 John St.\, Unit 108\, Markham\, ON\, L3R 3W3\, Canada
CATEGORIES:SBAM
ATTACH;FMTTYPE=image/jpeg:https://glasstronomystudios.ca/wp-content/uploads/2023/02/gS_SBAM_Web_BeKiKu3.jpg
END:VEVENT
BEGIN:VEVENT
DTSTART;TZID=America/Toronto:20251009T130000
DTEND;TZID=America/Toronto:20251009T160000
DTSTAMP:20260424T213946
CREATED:20251016T014043Z
LAST-MODIFIED:20251016T014043Z
UID:6239-1760014800-1760025600@glasstronomystudios.ca
SUMMARY:Thursday | Studio time
DESCRIPTION:
URL:https://glasstronomystudios.ca/event/thursday-studio-time-5/
LOCATION:Glasstronomy Studios\, 2600 John St.\, Unit 108\, Markham\, ON\, L3R 3W3\, Canada
CATEGORIES:Thursday | Studio time
ATTACH;FMTTYPE=image/jpeg:https://glasstronomystudios.ca/wp-content/uploads/2015/03/G114.jpg
ORGANIZER;CN="Glasstronomy Studios":MAILTO:info@glasstronomystudios.ca
END:VEVENT
BEGIN:VEVENT
DTSTART;TZID=America/Toronto:20251009T190000
DTEND;TZID=America/Toronto:20251009T220000
DTSTAMP:20260424T213946
CREATED:20251015T212015Z
LAST-MODIFIED:20251015T212446Z
UID:6156-1760036400-1760047200@glasstronomystudios.ca
SUMMARY:Course | B238 | Beginner/Intermediate stained glass: Copper foil and lead combination technique (September 25\, October 2\, 9\, 16\, 23\, and 30\, 2025)
DESCRIPTION:
URL:https://glasstronomystudios.ca/event/course-b238-beginner-intermediate-stained-glass-copper-foil-and-lead-combination-technique-september-25-october-2-9-16-23-and-30-2025-3/
LOCATION:Glasstronomy Studios\, 2600 John St.\, Unit 108\, Markham\, ON\, L3R 3W3\, Canada
CATEGORIES:Courses
ATTACH;FMTTYPE=image/jpeg:https://glasstronomystudios.ca/wp-content/uploads/2025/10/B238-Copper_foil_and_lead_combination_techniqueB-scaled.jpg
END:VEVENT
BEGIN:VEVENT
DTSTART;TZID=America/Toronto:20251010T120000
DTEND;TZID=America/Toronto:20251010T130000
DTSTAMP:20260424T213946
CREATED:20251015T225125Z
LAST-MODIFIED:20251015T225125Z
UID:6195-1760097600-1760101200@glasstronomystudios.ca
SUMMARY:Tutorial | T513Z | Repairs 101 (October 10\, 2025)
DESCRIPTION:
URL:https://glasstronomystudios.ca/event/tutorial-t513z-repairs-101-october-10-2025/
LOCATION:Glasstronomy Studios\, 2600 John St.\, Unit 108\, Markham\, ON\, L3R 3W3\, Canada
CATEGORIES:Lunchtime lessons on Zoom
ATTACH;FMTTYPE=image/jpeg:https://glasstronomystudios.ca/wp-content/uploads/2025/10/T513Z-Repairs_101D.jpg
ORGANIZER;CN="Glasstronomy Studios":MAILTO:info@glasstronomystudios.ca
END:VEVENT
BEGIN:VEVENT
DTSTART;TZID=America/Toronto:20251014T190000
DTEND;TZID=America/Toronto:20251014T220000
DTSTAMP:20260424T213946
CREATED:20251015T231919Z
LAST-MODIFIED:20251015T232503Z
UID:6214-1760468400-1760479200@glasstronomystudios.ca
SUMMARY:Tuesday | Studio time
DESCRIPTION:
URL:https://glasstronomystudios.ca/event/tuesday-studio-time-8/
LOCATION:Glasstronomy Studios\, 2600 John St.\, Unit 108\, Markham\, ON\, L3R 3W3\, Canada
CATEGORIES:Tuesday | Studio time
ATTACH;FMTTYPE=image/jpeg:https://glasstronomystudios.ca/wp-content/uploads/2019/11/G114.jpg
ORGANIZER;CN="Glasstronomy Studios":MAILTO:info@glasstronomystudios.ca
END:VEVENT
BEGIN:VEVENT
DTSTART;TZID=America/Toronto:20251016T123000
DTEND;TZID=America/Toronto:20251016T130000
DTSTAMP:20260424T213946
CREATED:20251022T212340Z
LAST-MODIFIED:20251022T212340Z
UID:6379-1760617800-1760619600@glasstronomystudios.ca
SUMMARY:SBAM / CAMP meeting
DESCRIPTION:
URL:https://glasstronomystudios.ca/event/sbam-camp-meeting/
LOCATION:Glasstronomy Studios\, 2600 John St.\, Unit 108\, Markham\, ON\, L3R 3W3\, Canada
CATEGORIES:SBAM
ATTACH;FMTTYPE=image/jpeg:https://glasstronomystudios.ca/wp-content/uploads/2023/02/gS_SBAM_Web_BeKiKu3.jpg
ORGANIZER;CN="Glasstronomy Studios":MAILTO:info@glasstronomystudios.ca
END:VEVENT
BEGIN:VEVENT
DTSTART;TZID=America/Toronto:20251016T130000
DTEND;TZID=America/Toronto:20251016T160000
DTSTAMP:20260424T213946
CREATED:20251016T014209Z
LAST-MODIFIED:20251016T014209Z
UID:6241-1760619600-1760630400@glasstronomystudios.ca
SUMMARY:Thursday | Studio time
DESCRIPTION:
URL:https://glasstronomystudios.ca/event/thursday-studio-time-6/
LOCATION:Glasstronomy Studios\, 2600 John St.\, Unit 108\, Markham\, ON\, L3R 3W3\, Canada
CATEGORIES:Thursday | Studio time
ATTACH;FMTTYPE=image/jpeg:https://glasstronomystudios.ca/wp-content/uploads/2015/03/G114.jpg
ORGANIZER;CN="Glasstronomy Studios":MAILTO:info@glasstronomystudios.ca
END:VEVENT
BEGIN:VEVENT
DTSTART;TZID=America/Toronto:20251016T190000
DTEND;TZID=America/Toronto:20251016T220000
DTSTAMP:20260424T213946
CREATED:20251015T211523Z
LAST-MODIFIED:20251016T015322Z
UID:6151-1760641200-1760652000@glasstronomystudios.ca
SUMMARY:Course | B238 | Beginner/Intermediate stained glass: Copper foil and lead combination technique (September 25\, October 2\, 9\, 16\, 23\, and 30\, 2025)
DESCRIPTION:
URL:https://glasstronomystudios.ca/event/course-b238-beginner-intermediate-stained-glass-copper-foil-and-lead-combination-technique-september-25-october-2-9-16-23-and-30-2025-2/
LOCATION:Glasstronomy Studios\, 2600 John St.\, Unit 108\, Markham\, ON\, L3R 3W3\, Canada
CATEGORIES:Courses
ATTACH;FMTTYPE=image/jpeg:https://glasstronomystudios.ca/wp-content/uploads/2025/10/B238-Copper_foil_and_lead_combination_techniqueB-scaled.jpg
END:VEVENT
BEGIN:VEVENT
DTSTART;TZID=America/Toronto:20251018T100000
DTEND;TZID=America/Toronto:20251018T120000
DTSTAMP:20260424T213946
CREATED:20251022T211945Z
LAST-MODIFIED:20251022T211945Z
UID:6377-1760781600-1760788800@glasstronomystudios.ca
SUMMARY:M2025-6 | Dumpling make\, taste\, and takeaway + Fall (Part 2) reveal
DESCRIPTION:
URL:https://glasstronomystudios.ca/event/m2025-6-dumpling-make-taste-and-takeaway-fall-part-2-reveal/
LOCATION:Glasstronomy Studios\, 2600 John St.\, Unit 108\, Markham\, ON\, L3R 3W3\, Canada
CATEGORIES:Members' events
ATTACH;FMTTYPE=image/jpeg:https://glasstronomystudios.ca/wp-content/uploads/2025/10/M2025-6-scaled.jpg
ORGANIZER;CN="Glasstronomy Studios":MAILTO:info@glasstronomystudios.ca
END:VEVENT
BEGIN:VEVENT
DTSTART;TZID=America/Toronto:20251021T190000
DTEND;TZID=America/Toronto:20251021T220000
DTSTAMP:20260424T213946
CREATED:20251015T184432Z
LAST-MODIFIED:20251015T230558Z
UID:6126-1761073200-1761084000@glasstronomystudios.ca
SUMMARY:Tuesday | Studio time
DESCRIPTION:
URL:https://glasstronomystudios.ca/event/tuesday-studio-time/
LOCATION:Glasstronomy Studios\, 2600 John St.\, Unit 108\, Markham\, ON\, L3R 3W3\, Canada
ATTACH;FMTTYPE=image/jpeg:https://glasstronomystudios.ca/wp-content/uploads/2019/11/G114.jpg
END:VEVENT
BEGIN:VEVENT
DTSTART;TZID=America/Toronto:20251023T130000
DTEND;TZID=America/Toronto:20251023T160000
DTSTAMP:20260424T213946
CREATED:20251016T014349Z
LAST-MODIFIED:20251016T014349Z
UID:6243-1761224400-1761235200@glasstronomystudios.ca
SUMMARY:Thursday | Studio time
DESCRIPTION:
URL:https://glasstronomystudios.ca/event/thursday-studio-time-7/
LOCATION:Glasstronomy Studios\, 2600 John St.\, Unit 108\, Markham\, ON\, L3R 3W3\, Canada
CATEGORIES:Thursday | Studio time
ATTACH;FMTTYPE=image/jpeg:https://glasstronomystudios.ca/wp-content/uploads/2015/03/G114.jpg
ORGANIZER;CN="Glasstronomy Studios":MAILTO:info@glasstronomystudios.ca
END:VEVENT
BEGIN:VEVENT
DTSTART;TZID=America/Toronto:20251023T190000
DTEND;TZID=America/Toronto:20251023T220000
DTSTAMP:20260424T213946
CREATED:20251015T212145Z
LAST-MODIFIED:20251023T093657Z
UID:6158-1761246000-1761256800@glasstronomystudios.ca
SUMMARY:COURSE | B238 | Beginner/Intermediate stained glass: Copper foil and lead combination technique (September 25\, October 2\, 9\, 16\, 23\, and 30\, 2025)
DESCRIPTION:
URL:https://glasstronomystudios.ca/event/course-b238-beginner-intermediate-stained-glass-copper-foil-and-lead-combination-technique-september-25-october-2-9-16-23-and-30-2025-4/
LOCATION:Glasstronomy Studios\, 2600 John St.\, Unit 108\, Markham\, ON\, L3R 3W3\, Canada
CATEGORIES:Courses
ATTACH;FMTTYPE=image/jpeg:https://glasstronomystudios.ca/wp-content/uploads/2025/10/B238-Copper_foil_and_lead_combination_techniqueB-scaled.jpg
END:VEVENT
BEGIN:VEVENT
DTSTART;TZID=America/Toronto:20251024T090000
DTEND;TZID=America/Toronto:20251024T150000
DTSTAMP:20260424T213946
CREATED:20251022T213018Z
LAST-MODIFIED:20251022T213018Z
UID:6384-1761296400-1761318000@glasstronomystudios.ca
SUMMARY:Holy Trinity School | Impressionism
DESCRIPTION:
URL:https://glasstronomystudios.ca/event/holy-trinity-school-impressionism/
LOCATION:Glasstronomy Studios\, 2600 John St.\, Unit 108\, Markham\, ON\, L3R 3W3\, Canada
CATEGORIES:School groups
ATTACH;FMTTYPE=image/jpeg:https://glasstronomystudios.ca/wp-content/uploads/2023/08/G282-Impressionistic_style2.jpg
ORGANIZER;CN="Glasstronomy Studios":MAILTO:info@glasstronomystudios.ca
END:VEVENT
BEGIN:VEVENT
DTSTART;VALUE=DATE:20251025
DTEND;VALUE=DATE:20251026
DTSTAMP:20260424T213946
CREATED:20251024T195056Z
LAST-MODIFIED:20251024T195056Z
UID:6398-1761350400-1761436799@glasstronomystudios.ca
SUMMARY:Studio closed | Saturday\, October 25\, 2025
DESCRIPTION:
URL:https://glasstronomystudios.ca/event/studio-closed-saturday-october-25-2025/
LOCATION:Glasstronomy Studios\, 2600 John St.\, Unit 108\, Markham\, ON\, L3R 3W3\, Canada
CATEGORIES:Closed
ATTACH;FMTTYPE=image/jpeg:https://glasstronomystudios.ca/wp-content/uploads/2025/10/2020closed-sign-scaled.jpg
ORGANIZER;CN="Glasstronomy Studios":MAILTO:info@glasstronomystudios.ca
END:VEVENT
BEGIN:VEVENT
DTSTART;TZID=America/Toronto:20251028T190000
DTEND;TZID=America/Toronto:20251028T220000
DTSTAMP:20260424T213946
CREATED:20251015T232035Z
LAST-MODIFIED:20251015T232035Z
UID:6216-1761678000-1761688800@glasstronomystudios.ca
SUMMARY:Tuesday | Studio time
DESCRIPTION:
URL:https://glasstronomystudios.ca/event/tuesday-studio-time-9/
LOCATION:Glasstronomy Studios\, 2600 John St.\, Unit 108\, Markham\, ON\, L3R 3W3\, Canada
CATEGORIES:Tuesday | Studio time
ATTACH;FMTTYPE=image/jpeg:https://glasstronomystudios.ca/wp-content/uploads/2019/11/G114.jpg
ORGANIZER;CN="Glasstronomy Studios":MAILTO:info@glasstronomystudios.ca
END:VEVENT
BEGIN:VEVENT
DTSTART;TZID=America/Toronto:20251030T130000
DTEND;TZID=America/Toronto:20251030T160000
DTSTAMP:20260424T213946
CREATED:20251016T014457Z
LAST-MODIFIED:20251016T014457Z
UID:6245-1761829200-1761840000@glasstronomystudios.ca
SUMMARY:Thursday | Studio time
DESCRIPTION:
URL:https://glasstronomystudios.ca/event/thursday-studio-time-8/
LOCATION:Glasstronomy Studios\, 2600 John St.\, Unit 108\, Markham\, ON\, L3R 3W3\, Canada
CATEGORIES:Thursday | Studio time
ATTACH;FMTTYPE=image/jpeg:https://glasstronomystudios.ca/wp-content/uploads/2015/03/G114.jpg
ORGANIZER;CN="Glasstronomy Studios":MAILTO:info@glasstronomystudios.ca
END:VEVENT
BEGIN:VEVENT
DTSTART;TZID=America/Toronto:20251030T190000
DTEND;TZID=America/Toronto:20251030T220000
DTSTAMP:20260424T213946
CREATED:20251015T212310Z
LAST-MODIFIED:20251219T012206Z
UID:6160-1761850800-1761861600@glasstronomystudios.ca
SUMMARY:COURSE | B238 | Beginner/Intermediate stained glass: Copper foil and lead combination technique (September 25\, October 2\, 9\, 16\, 23\, and 30\, 2025)
DESCRIPTION:
URL:https://glasstronomystudios.ca/event/course-b238-beginner-intermediate-stained-glass-copper-foil-and-lead-combination-technique-september-25-october-2-9-16-23-and-30-2025-5/
LOCATION:Glasstronomy Studios\, 2600 John St.\, Unit 108\, Markham\, ON\, L3R 3W3\, Canada
CATEGORIES:Courses
ATTACH;FMTTYPE=image/jpeg:https://glasstronomystudios.ca/wp-content/uploads/2025/10/B238-Copper_foil_and_lead_combination_techniqueB-scaled.jpg
ORGANIZER;CN="Glasstronomy Studios":MAILTO:info@glasstronomystudios.ca
END:VEVENT
END:VCALENDAR