BEGIN:VCALENDAR
VERSION:2.0
PRODID:-//Glasstronomy Studios - ECPv6.15.20//NONSGML v1.0//EN
CALSCALE:GREGORIAN
METHOD:PUBLISH
X-WR-CALNAME:Glasstronomy Studios
X-ORIGINAL-URL:https://glasstronomystudios.ca
X-WR-CALDESC:Events for Glasstronomy Studios
REFRESH-INTERVAL;VALUE=DURATION:PT1H
X-Robots-Tag:noindex
X-PUBLISHED-TTL:PT1H
BEGIN:VTIMEZONE
TZID:America/Toronto
BEGIN:DAYLIGHT
TZOFFSETFROM:-0500
TZOFFSETTO:-0400
TZNAME:EDT
DTSTART:20250309T070000
END:DAYLIGHT
BEGIN:STANDARD
TZOFFSETFROM:-0400
TZOFFSETTO:-0500
TZNAME:EST
DTSTART:20251102T060000
END:STANDARD
BEGIN:DAYLIGHT
TZOFFSETFROM:-0500
TZOFFSETTO:-0400
TZNAME:EDT
DTSTART:20260308T070000
END:DAYLIGHT
BEGIN:STANDARD
TZOFFSETFROM:-0400
TZOFFSETTO:-0500
TZNAME:EST
DTSTART:20261101T060000
END:STANDARD
BEGIN:DAYLIGHT
TZOFFSETFROM:-0500
TZOFFSETTO:-0400
TZNAME:EDT
DTSTART:20270314T070000
END:DAYLIGHT
BEGIN:STANDARD
TZOFFSETFROM:-0400
TZOFFSETTO:-0500
TZNAME:EST
DTSTART:20271107T060000
END:STANDARD
END:VTIMEZONE
BEGIN:VEVENT
DTSTART;TZID=America/Toronto:20260509T100000
DTEND;TZID=America/Toronto:20260509T120000
DTSTAMP:20260424T122313
CREATED:20260318T103557Z
LAST-MODIFIED:20260318T185105Z
UID:6777-1778320800-1778328000@glasstronomystudios.ca
SUMMARY:WORKSHOP | G317 | Beginner glass fusing: Pendant party
DESCRIPTION:
URL:https://glasstronomystudios.ca/event/workshop-g317-beginner-glass-fusing-pendant-party-2/
LOCATION:Glasstronomy Studios\, 2600 John St.\, Unit 108\, Markham\, ON\, L3R 3W3\, Canada
CATEGORIES:Beginners,Workshops
ATTACH;FMTTYPE=image/jpeg:https://glasstronomystudios.ca/wp-content/uploads/2026/03/G317-Beginner_glass_fusing-Pendant_partyD.jpg
ORGANIZER;CN="Glasstronomy Studios":MAILTO:info@glasstronomystudios.ca
END:VEVENT
BEGIN:VEVENT
DTSTART;TZID=America/Toronto:20260509T130000
DTEND;TZID=America/Toronto:20260509T160000
DTSTAMP:20260424T122313
CREATED:20260318T103837Z
LAST-MODIFIED:20260318T191249Z
UID:6779-1778331600-1778342400@glasstronomystudios.ca
SUMMARY:WORKSHOP | G318S | Glass impasto: Painted picture frames
DESCRIPTION:
URL:https://glasstronomystudios.ca/event/workshop-g318s-glass-impasto-painted-picture-frames/
LOCATION:Glasstronomy Studios\, 2600 John St.\, Unit 108\, Markham\, ON\, L3R 3W3\, Canada
CATEGORIES:Beginners,Workshops
ATTACH;FMTTYPE=image/jpeg:https://glasstronomystudios.ca/wp-content/uploads/2026/03/G318S-Mothers_and_Grandmothers_Day_special-Impasto_painted_picture_frame-Heart-scaled.jpg
ORGANIZER;CN="Glasstronomy Studios":MAILTO:info@glasstronomystudios.ca
END:VEVENT
BEGIN:VEVENT
DTSTART;TZID=America/Toronto:20260512T190000
DTEND;TZID=America/Toronto:20260512T220000
DTSTAMP:20260424T122313
CREATED:20260318T114640Z
LAST-MODIFIED:20260318T114640Z
UID:6811-1778612400-1778623200@glasstronomystudios.ca
SUMMARY:Tuesday | Studio time
DESCRIPTION:
URL:https://glasstronomystudios.ca/event/tuesday-studio-time-36/
LOCATION:Glasstronomy Studios\, 2600 John St.\, Unit 108\, Markham\, ON\, L3R 3W3\, Canada
CATEGORIES:Tuesday | Studio time
ATTACH;FMTTYPE=image/jpeg:https://glasstronomystudios.ca/wp-content/uploads/2019/11/G114.jpg
ORGANIZER;CN="Glasstronomy Studios":MAILTO:info@glasstronomystudios.ca
END:VEVENT
BEGIN:VEVENT
DTSTART;TZID=America/Toronto:20260514T130000
DTEND;TZID=America/Toronto:20260514T160000
DTSTAMP:20260424T122313
CREATED:20260318T201944Z
LAST-MODIFIED:20260318T201944Z
UID:6869-1778763600-1778774400@glasstronomystudios.ca
SUMMARY:Thursday | Studio time
DESCRIPTION:
URL:https://glasstronomystudios.ca/event/thursday-studio-time-32/
LOCATION:Glasstronomy Studios\, 2600 John St.\, Unit 108\, Markham\, ON\, L3R 3W3\, Canada
CATEGORIES:Thursday | Studio time
ATTACH;FMTTYPE=image/jpeg:https://glasstronomystudios.ca/wp-content/uploads/2018/08/G114_Open_studio2.jpg
ORGANIZER;CN="Glasstronomy Studios":MAILTO:info@glasstronomystudios.ca
END:VEVENT
BEGIN:VEVENT
DTSTART;TZID=America/Toronto:20260514T190000
DTEND;TZID=America/Toronto:20260514T220000
DTSTAMP:20260424T122313
CREATED:20260225T221010Z
LAST-MODIFIED:20260225T221710Z
UID:6660-1778785200-1778796000@glasstronomystudios.ca
SUMMARY:COURSE | B244 | Beginner/Intermediate stained glass: Copper foil technique
DESCRIPTION:
URL:https://glasstronomystudios.ca/event/course-b244-beginner-intermediate-stained-glass-copper-foil-technique-2/
LOCATION:Glasstronomy Studios\, 2600 John St.\, Unit 108\, Markham\, ON\, L3R 3W3\, Canada
CATEGORIES:Beginners,Courses
ATTACH;FMTTYPE=image/jpeg:https://glasstronomystudios.ca/wp-content/uploads/2026/02/B209-Copper_foil_technique-scaled.jpg
ORGANIZER;CN="Glasstronomy Studios":MAILTO:info@glasstronomystudios.ca
END:VEVENT
BEGIN:VEVENT
DTSTART;TZID=America/Toronto:20260519T190000
DTEND;TZID=America/Toronto:20260519T220000
DTSTAMP:20260424T122313
CREATED:20260318T114956Z
LAST-MODIFIED:20260318T114956Z
UID:6813-1779217200-1779228000@glasstronomystudios.ca
SUMMARY:Tuesday | Studio time
DESCRIPTION:
URL:https://glasstronomystudios.ca/event/tuesday-studio-time-37/
LOCATION:Glasstronomy Studios\, 2600 John St.\, Unit 108\, Markham\, ON\, L3R 3W3\, Canada
CATEGORIES:Tuesday | Studio time
ATTACH;FMTTYPE=image/jpeg:https://glasstronomystudios.ca/wp-content/uploads/2019/11/G114.jpg
ORGANIZER;CN="Glasstronomy Studios":MAILTO:info@glasstronomystudios.ca
END:VEVENT
BEGIN:VEVENT
DTSTART;TZID=America/Toronto:20260521T130000
DTEND;TZID=America/Toronto:20260521T160000
DTSTAMP:20260424T122313
CREATED:20260318T202136Z
LAST-MODIFIED:20260318T202136Z
UID:6871-1779368400-1779379200@glasstronomystudios.ca
SUMMARY:Thursday | Studio time
DESCRIPTION:
URL:https://glasstronomystudios.ca/event/thursday-studio-time-33/
LOCATION:Glasstronomy Studios\, 2600 John St.\, Unit 108\, Markham\, ON\, L3R 3W3\, Canada
CATEGORIES:Thursday | Studio time
ATTACH;FMTTYPE=image/jpeg:https://glasstronomystudios.ca/wp-content/uploads/2018/08/G114_Open_studio2.jpg
ORGANIZER;CN="Glasstronomy Studios":MAILTO:info@glasstronomystudios.ca
END:VEVENT
BEGIN:VEVENT
DTSTART;TZID=America/Toronto:20260521T190000
DTEND;TZID=America/Toronto:20260521T220000
DTSTAMP:20260424T122313
CREATED:20260225T221256Z
LAST-MODIFIED:20260225T221634Z
UID:6662-1779390000-1779400800@glasstronomystudios.ca
SUMMARY:COURSE | B244 | Beginner/Intermediate stained glass: Copper foil technique
DESCRIPTION:
URL:https://glasstronomystudios.ca/event/course-b244-beginner-intermediate-stained-glass-copper-foil-technique-3/
LOCATION:Glasstronomy Studios\, 2600 John St.\, Unit 108\, Markham\, ON\, L3R 3W3\, Canada
CATEGORIES:Beginners,Courses
ATTACH;FMTTYPE=image/jpeg:https://glasstronomystudios.ca/wp-content/uploads/2026/02/B209-Copper_foil_technique-scaled.jpg
ORGANIZER;CN="Glasstronomy Studios":MAILTO:info@glasstronomystudios.ca
END:VEVENT
BEGIN:VEVENT
DTSTART;TZID=America/Toronto:20260523T100000
DTEND;TZID=America/Toronto:20260523T160000
DTSTAMP:20260424T122313
CREATED:20260318T104138Z
LAST-MODIFIED:20260318T191621Z
UID:6781-1779530400-1779552000@glasstronomystudios.ca
SUMMARY:WORKSHOP | I361 | Stained glass: Patio stone
DESCRIPTION:
URL:https://glasstronomystudios.ca/event/workshop-i361-stained-glass-patio-stone/
LOCATION:Glasstronomy Studios\, 2600 John St.\, Unit 108\, Markham\, ON\, L3R 3W3\, Canada
CATEGORIES:Workshops
ATTACH;FMTTYPE=image/jpeg:https://glasstronomystudios.ca/wp-content/uploads/2026/03/I361-Patio_stone-Racoon-scaled.jpg
ORGANIZER;CN="Glasstronomy Studios":MAILTO:info@glasstronomystudios.ca
END:VEVENT
BEGIN:VEVENT
DTSTART;TZID=America/Toronto:20260526T190000
DTEND;TZID=America/Toronto:20260526T220000
DTSTAMP:20260424T122313
CREATED:20260318T115226Z
LAST-MODIFIED:20260318T115226Z
UID:6815-1779822000-1779832800@glasstronomystudios.ca
SUMMARY:Tuesday | Studio time
DESCRIPTION:
URL:https://glasstronomystudios.ca/event/tuesday-studio-time-38/
LOCATION:Glasstronomy Studios\, 2600 John St.\, Unit 108\, Markham\, ON\, L3R 3W3\, Canada
CATEGORIES:Tuesday | Studio time
ATTACH;FMTTYPE=image/jpeg:https://glasstronomystudios.ca/wp-content/uploads/2019/11/G114.jpg
ORGANIZER;CN="Glasstronomy Studios":MAILTO:info@glasstronomystudios.ca
END:VEVENT
BEGIN:VEVENT
DTSTART;TZID=America/Toronto:20260528T130000
DTEND;TZID=America/Toronto:20260528T160000
DTSTAMP:20260424T122313
CREATED:20260318T202319Z
LAST-MODIFIED:20260318T202319Z
UID:6873-1779973200-1779984000@glasstronomystudios.ca
SUMMARY:Thursday | Studio time
DESCRIPTION:
URL:https://glasstronomystudios.ca/event/thursday-studio-time-34/
LOCATION:Glasstronomy Studios\, 2600 John St.\, Unit 108\, Markham\, ON\, L3R 3W3\, Canada
CATEGORIES:Thursday | Studio time
ATTACH;FMTTYPE=image/jpeg:https://glasstronomystudios.ca/wp-content/uploads/2018/08/G114_Open_studio2.jpg
ORGANIZER;CN="Glasstronomy Studios":MAILTO:info@glasstronomystudios.ca
END:VEVENT
BEGIN:VEVENT
DTSTART;TZID=America/Toronto:20260528T190000
DTEND;TZID=America/Toronto:20260528T220000
DTSTAMP:20260424T122313
CREATED:20260225T221541Z
LAST-MODIFIED:20260225T221541Z
UID:6664-1779994800-1780005600@glasstronomystudios.ca
SUMMARY:COURSE | B244 | Beginner/Intermediate stained glass: Copper foil technique
DESCRIPTION:
URL:https://glasstronomystudios.ca/event/course-b244-beginner-intermediate-stained-glass-copper-foil-technique-4/
LOCATION:Glasstronomy Studios\, 2600 John St.\, Unit 108\, Markham\, ON\, L3R 3W3\, Canada
CATEGORIES:Beginners,Courses
ATTACH;FMTTYPE=image/jpeg:https://glasstronomystudios.ca/wp-content/uploads/2026/02/B209-Copper_foil_technique-scaled.jpg
ORGANIZER;CN="Glasstronomy Studios":MAILTO:info@glasstronomystudios.ca
END:VEVENT
BEGIN:VEVENT
DTSTART;TZID=America/Toronto:20260530T100000
DTEND;TZID=America/Toronto:20260530T160000
DTSTAMP:20260424T122313
CREATED:20260318T104438Z
LAST-MODIFIED:20260318T191804Z
UID:6783-1780135200-1780156800@glasstronomystudios.ca
SUMMARY:WORKSHOP | I361 | Stained glass: Patio stone
DESCRIPTION:
URL:https://glasstronomystudios.ca/event/workshop-i361-stained-glass-patio-stone-2/
LOCATION:Glasstronomy Studios\, 2600 John St.\, Unit 108\, Markham\, ON\, L3R 3W3\, Canada
CATEGORIES:Workshops
ATTACH;FMTTYPE=image/jpeg:https://glasstronomystudios.ca/wp-content/uploads/2026/03/I361-Patio_stone-Turtle-scaled.jpg
ORGANIZER;CN="Glasstronomy Studios":MAILTO:info@glasstronomystudios.ca
END:VEVENT
BEGIN:VEVENT
DTSTART;TZID=America/Toronto:20260602T190000
DTEND;TZID=America/Toronto:20260602T220000
DTSTAMP:20260424T122313
CREATED:20260318T115622Z
LAST-MODIFIED:20260318T115622Z
UID:6817-1780426800-1780437600@glasstronomystudios.ca
SUMMARY:Tuesday | Studio time
DESCRIPTION:
URL:https://glasstronomystudios.ca/event/tuesday-studio-time-39/
LOCATION:Glasstronomy Studios\, 2600 John St.\, Unit 108\, Markham\, ON\, L3R 3W3\, Canada
CATEGORIES:Tuesday | Studio time
ATTACH;FMTTYPE=image/jpeg:https://glasstronomystudios.ca/wp-content/uploads/2019/11/G114.jpg
ORGANIZER;CN="Glasstronomy Studios":MAILTO:info@glasstronomystudios.ca
END:VEVENT
BEGIN:VEVENT
DTSTART;TZID=America/Toronto:20260604T130000
DTEND;TZID=America/Toronto:20260604T160000
DTSTAMP:20260424T122313
CREATED:20260318T203534Z
LAST-MODIFIED:20260318T204218Z
UID:6877-1780578000-1780588800@glasstronomystudios.ca
SUMMARY:Thursday | Studio time
DESCRIPTION:
URL:https://glasstronomystudios.ca/event/thursday-studio-time-35/
LOCATION:Glasstronomy Studios\, 2600 John St.\, Unit 108\, Markham\, ON\, L3R 3W3\, Canada
CATEGORIES:Thursday | Studio time
ATTACH;FMTTYPE=image/jpeg:https://glasstronomystudios.ca/wp-content/uploads/2018/08/G114_Open_studio2.jpg
ORGANIZER;CN="Glasstronomy Studios":MAILTO:info@glasstronomystudios.ca
END:VEVENT
BEGIN:VEVENT
DTSTART;TZID=America/Toronto:20260604T190000
DTEND;TZID=America/Toronto:20260604T220000
DTSTAMP:20260424T122313
CREATED:20260318T104821Z
LAST-MODIFIED:20260318T192315Z
UID:6785-1780599600-1780610400@glasstronomystudios.ca
SUMMARY:WORKSHOP | I465 | Faerie series\, I | Fusing fun: Faerie house lantern
DESCRIPTION:
URL:https://glasstronomystudios.ca/event/workshop-i465-faerie-series-i-fusing-fun-faerie-house-lantern/
LOCATION:Glasstronomy Studios\, 2600 John St.\, Unit 108\, Markham\, ON\, L3R 3W3\, Canada
CATEGORIES:Workshops
ATTACH;FMTTYPE=image/jpeg:https://glasstronomystudios.ca/wp-content/uploads/2026/03/I465-Fusing_fun-Faerie_house_lanternD-scaled.jpg
ORGANIZER;CN="Glasstronomy Studios":MAILTO:info@glasstronomystudios.ca
END:VEVENT
BEGIN:VEVENT
DTSTART;TZID=America/Toronto:20260606T100000
DTEND;TZID=America/Toronto:20260606T120000
DTSTAMP:20260424T122313
CREATED:20260318T105419Z
LAST-MODIFIED:20260318T193300Z
UID:6789-1780740000-1780747200@glasstronomystudios.ca
SUMMARY:WORKSHOP | I466 | Faerie series\, II | Seasonal garden stake series: Moonlight muse
DESCRIPTION:
URL:https://glasstronomystudios.ca/event/workshop-i466-faerie-series-ii-seasonal-garden-stake-series-moonlight-muse/
LOCATION:Glasstronomy Studios\, 2600 John St.\, Unit 108\, Markham\, ON\, L3R 3W3\, Canada
CATEGORIES:Workshops
ATTACH;FMTTYPE=image/jpeg:https://glasstronomystudios.ca/wp-content/uploads/2026/03/I466-Seasonal_garden_stake_series-Moonlight-faerieB-scaled.jpg
ORGANIZER;CN="Glasstronomy Studios":MAILTO:info@glasstronomystudios.ca
END:VEVENT
BEGIN:VEVENT
DTSTART;TZID=America/Toronto:20260606T130000
DTEND;TZID=America/Toronto:20260606T160000
DTSTAMP:20260424T122313
CREATED:20260318T110028Z
LAST-MODIFIED:20260318T194543Z
UID:6793-1780750800-1780761600@glasstronomystudios.ca
SUMMARY:WORKSHOP | G319 | Faerie series\, III | Magical mushroom mosaics
DESCRIPTION:
URL:https://glasstronomystudios.ca/event/workshop-g319-faerie-series-iii-magical-mushroom-mosaics/
LOCATION:Glasstronomy Studios\, 2600 John St.\, Unit 108\, Markham\, ON\, L3R 3W3\, Canada
CATEGORIES:Workshops
ATTACH;FMTTYPE=image/jpeg:https://glasstronomystudios.ca/wp-content/uploads/2026/03/G319-Beginner_mosaic_glass-Magic_mushrooms-scaled.jpg
ORGANIZER;CN="Glasstronomy Studios":MAILTO:info@glasstronomystudios.ca
END:VEVENT
BEGIN:VEVENT
DTSTART;TZID=America/Toronto:20260609T190000
DTEND;TZID=America/Toronto:20260609T220000
DTSTAMP:20260424T122313
CREATED:20260318T115917Z
LAST-MODIFIED:20260318T211617Z
UID:6819-1781031600-1781042400@glasstronomystudios.ca
SUMMARY:Tuesday | Studio time
DESCRIPTION:
URL:https://glasstronomystudios.ca/event/tuesday-studio-time-40/
LOCATION:Glasstronomy Studios\, 2600 John St.\, Unit 108\, Markham\, ON\, L3R 3W3\, Canada
CATEGORIES:Tuesday | Studio time
ATTACH;FMTTYPE=image/jpeg:https://glasstronomystudios.ca/wp-content/uploads/2019/11/G114.jpg
ORGANIZER;CN="Glasstronomy Studios":MAILTO:info@glasstronomystudios.ca
END:VEVENT
BEGIN:VEVENT
DTSTART;TZID=America/Toronto:20260611T130000
DTEND;TZID=America/Toronto:20260611T160000
DTSTAMP:20260424T122313
CREATED:20260318T204037Z
LAST-MODIFIED:20260318T204037Z
UID:6879-1781182800-1781193600@glasstronomystudios.ca
SUMMARY:Thursday | Studio time
DESCRIPTION:
URL:https://glasstronomystudios.ca/event/thursday-studio-time-36/
LOCATION:Glasstronomy Studios\, 2600 John St.\, Unit 108\, Markham\, ON\, L3R 3W3\, Canada
CATEGORIES:Thursday | Studio time
ATTACH;FMTTYPE=image/jpeg:https://glasstronomystudios.ca/wp-content/uploads/2018/08/G114_Open_studio2.jpg
ORGANIZER;CN="Glasstronomy Studios":MAILTO:info@glasstronomystudios.ca
END:VEVENT
BEGIN:VEVENT
DTSTART;TZID=America/Toronto:20260611T190000
DTEND;TZID=America/Toronto:20260611T190000
DTSTAMP:20260424T122313
CREATED:20260318T105125Z
LAST-MODIFIED:20260318T192521Z
UID:6787-1781204400-1781204400@glasstronomystudios.ca
SUMMARY:WORKSHOP | I465 | Faerie series\, I | Fusing fun: Faerie house lantern
DESCRIPTION:
URL:https://glasstronomystudios.ca/event/workshop-i465-faerie-series-i-fusing-fun-faerie-house-lantern-2/
LOCATION:ON
CATEGORIES:Workshops
ATTACH;FMTTYPE=image/jpeg:https://glasstronomystudios.ca/wp-content/uploads/2026/03/I465-Fusing_fun-Faerie_house_lanternE-scaled.jpg
END:VEVENT
BEGIN:VEVENT
DTSTART;TZID=America/Toronto:20260612T190000
DTEND;TZID=America/Toronto:20260612T210000
DTSTAMP:20260424T122313
CREATED:20260318T111602Z
LAST-MODIFIED:20260318T111602Z
UID:6799-1781290800-1781298000@glasstronomystudios.ca
SUMMARY:WORKSHOP | B245S | Beginner copper foil social: Squared
DESCRIPTION:
URL:https://glasstronomystudios.ca/event/workshop-b245s-beginner-copper-foil-social-squared-2/
LOCATION:Glasstronomy Studios\, 2600 John St.\, Unit 108\, Markham\, ON\, L3R 3W3\, Canada
CATEGORIES:Workshops
ATTACH;FMTTYPE=image/jpeg:https://glasstronomystudios.ca/wp-content/uploads/2026/03/B245-Beginner_copper_foil_social-Squared.jpg
ORGANIZER;CN="Glasstronomy Studios":MAILTO:info@glasstronomystudios.ca
END:VEVENT
BEGIN:VEVENT
DTSTART;TZID=America/Toronto:20260613T100000
DTEND;TZID=America/Toronto:20260613T120000
DTSTAMP:20260424T122313
CREATED:20260318T105645Z
LAST-MODIFIED:20260318T194151Z
UID:6791-1781344800-1781352000@glasstronomystudios.ca
SUMMARY:WORKSHOP | I466 | Faerie series\, II | Seasonal garden stake series: Moonlight muse
DESCRIPTION:
URL:https://glasstronomystudios.ca/event/workshop-i466-faerie-series-ii-seasonal-garden-stake-series-moonlight-muse-2/
LOCATION:Glasstronomy Studios\, 2600 John St.\, Unit 108\, Markham\, ON\, L3R 3W3\, Canada
CATEGORIES:Workshops
ATTACH;FMTTYPE=image/jpeg:https://glasstronomystudios.ca/wp-content/uploads/2026/03/I466-Seasonal_garden_stake_series-Moonlight-faerieB-scaled.jpg
ORGANIZER;CN="Glasstronomy Studios":MAILTO:info@glasstronomystudios.ca
END:VEVENT
END:VCALENDAR