BEGIN:VCALENDAR
VERSION:2.0
PRODID:-//Glasstronomy Studios - ECPv6.15.20//NONSGML v1.0//EN
CALSCALE:GREGORIAN
METHOD:PUBLISH
X-WR-CALNAME:Glasstronomy Studios
X-ORIGINAL-URL:https://glasstronomystudios.ca
X-WR-CALDESC:Events for Glasstronomy Studios
REFRESH-INTERVAL;VALUE=DURATION:PT1H
X-Robots-Tag:noindex
X-PUBLISHED-TTL:PT1H
BEGIN:VTIMEZONE
TZID:America/Toronto
BEGIN:DAYLIGHT
TZOFFSETFROM:-0500
TZOFFSETTO:-0400
TZNAME:EDT
DTSTART:20250309T070000
END:DAYLIGHT
BEGIN:STANDARD
TZOFFSETFROM:-0400
TZOFFSETTO:-0500
TZNAME:EST
DTSTART:20251102T060000
END:STANDARD
BEGIN:DAYLIGHT
TZOFFSETFROM:-0500
TZOFFSETTO:-0400
TZNAME:EDT
DTSTART:20260308T070000
END:DAYLIGHT
BEGIN:STANDARD
TZOFFSETFROM:-0400
TZOFFSETTO:-0500
TZNAME:EST
DTSTART:20261101T060000
END:STANDARD
BEGIN:DAYLIGHT
TZOFFSETFROM:-0500
TZOFFSETTO:-0400
TZNAME:EDT
DTSTART:20270314T070000
END:DAYLIGHT
BEGIN:STANDARD
TZOFFSETFROM:-0400
TZOFFSETTO:-0500
TZNAME:EST
DTSTART:20271107T060000
END:STANDARD
END:VTIMEZONE
BEGIN:VEVENT
DTSTART;TZID=America/Toronto:20260129T130000
DTEND;TZID=America/Toronto:20260129T160000
DTSTAMP:20260424T185140
CREATED:20260107T121546Z
LAST-MODIFIED:20260107T121546Z
UID:6592-1769691600-1769702400@glasstronomystudios.ca
SUMMARY:Thursday | Studio time
DESCRIPTION:
URL:https://glasstronomystudios.ca/event/thursday-studio-time-18/
LOCATION:Glasstronomy Studios\, 2600 John St.\, Unit 108\, Markham\, ON\, L3R 3W3\, Canada
CATEGORIES:Thursday | Studio time
ATTACH;FMTTYPE=image/jpeg:https://glasstronomystudios.ca/wp-content/uploads/2018/08/G114_Open_studio2.jpg
ORGANIZER;CN="Glasstronomy Studios":MAILTO:info@glasstronomystudios.ca
END:VEVENT
BEGIN:VEVENT
DTSTART;TZID=America/Toronto:20260129T190000
DTEND;TZID=America/Toronto:20260129T220000
DTSTAMP:20260424T185140
CREATED:20251219T012928Z
LAST-MODIFIED:20251219T113823Z
UID:6544-1769713200-1769724000@glasstronomystudios.ca
SUMMARY:WORKSHOP | I460 | Playing with pot melts: Recycled glass art (January 22\, and 29\, 2026)
DESCRIPTION:
URL:https://glasstronomystudios.ca/event/workshop-i460-playing-with-pot-melts-recycled-glass-art-january-22-and-29-2026-2/
LOCATION:Glasstronomy Studios\, 2600 John St.\, Unit 108\, Markham\, ON\, L3R 3W3\, Canada
CATEGORIES:Workshops
ATTACH;FMTTYPE=image/jpeg:https://glasstronomystudios.ca/wp-content/uploads/2025/12/I460-Playing_with_pot_melts-Recycled_glass_artB-scaled.jpg
ORGANIZER;CN="Glasstronomy Studios":MAILTO:info@glasstronomystudios.ca
END:VEVENT
BEGIN:VEVENT
DTSTART;TZID=America/Toronto:20260131T100000
DTEND;TZID=America/Toronto:20260131T160000
DTSTAMP:20260424T185140
CREATED:20251219T013552Z
LAST-MODIFIED:20251219T114110Z
UID:6548-1769853600-1769875200@glasstronomystudios.ca
SUMMARY:WORKSHOP | B206 | Beginner glass fusing (January 31\, 2026)
DESCRIPTION:
URL:https://glasstronomystudios.ca/event/workshop-b206-beginner-glass-fusing-january-31-2026/
LOCATION:Glasstronomy Studios\, 2600 John St.\, Unit 108\, Markham\, ON\, L3R 3W3\, Canada
CATEGORIES:Workshops
ATTACH;FMTTYPE=image/jpeg:https://glasstronomystudios.ca/wp-content/uploads/2025/12/B206-Jewellery_and_dish-scaled.jpg
ORGANIZER;CN="Glasstronomy Studios":MAILTO:info@glasstronomystudios.ca
END:VEVENT
BEGIN:VEVENT
DTSTART;TZID=America/Toronto:20260203T190000
DTEND;TZID=America/Toronto:20260203T220000
DTSTAMP:20260424T185140
CREATED:20260107T121807Z
LAST-MODIFIED:20260107T121807Z
UID:6594-1770145200-1770156000@glasstronomystudios.ca
SUMMARY:Tuesday | Studio time
DESCRIPTION:
URL:https://glasstronomystudios.ca/event/tuesday-studio-time-23/
LOCATION:Glasstronomy Studios\, 2600 John St.\, Unit 108\, Markham\, ON\, L3R 3W3\, Canada
CATEGORIES:Tuesday | Studio time
ATTACH;FMTTYPE=image/jpeg:https://glasstronomystudios.ca/wp-content/uploads/2015/11/G114_Open-studio.jpg
ORGANIZER;CN="Glasstronomy Studios":MAILTO:info@glasstronomystudios.ca
END:VEVENT
BEGIN:VEVENT
DTSTART;TZID=America/Toronto:20260205T130000
DTEND;TZID=America/Toronto:20260205T160000
DTSTAMP:20260424T185140
CREATED:20260107T122813Z
LAST-MODIFIED:20260107T122813Z
UID:6603-1770296400-1770307200@glasstronomystudios.ca
SUMMARY:Thursday | Studio time
DESCRIPTION:
URL:https://glasstronomystudios.ca/event/thursday-studio-time-20/
LOCATION:Glasstronomy Studios\, 2600 John St.\, Unit 108\, Markham\, ON\, L3R 3W3\, Canada
CATEGORIES:Thursday | Studio time
ATTACH;FMTTYPE=image/jpeg:https://glasstronomystudios.ca/wp-content/uploads/2018/08/G114_Open_studio2.jpg
ORGANIZER;CN="Glasstronomy Studios":MAILTO:info@glasstronomystudios.ca
END:VEVENT
BEGIN:VEVENT
DTSTART;TZID=America/Toronto:20260205T190000
DTEND;TZID=America/Toronto:20260205T220000
DTSTAMP:20260424T185140
CREATED:20251022T143231Z
LAST-MODIFIED:20251219T114259Z
UID:6313-1770318000-1770328800@glasstronomystudios.ca
SUMMARY:COURSE | B209 | Beginner stained glass: Lead came technique (February 5\, 12\, 19\, and 26\, 2026)
DESCRIPTION:
URL:https://glasstronomystudios.ca/event/course-b209-beginner-stained-glass-lead-came-technique-february-5-12-19-and-26-2026/
LOCATION:Glasstronomy Studios\, 2600 John St.\, Unit 108\, Markham\, ON\, L3R 3W3\, Canada
CATEGORIES:Courses
ATTACH;FMTTYPE=image/jpeg:https://glasstronomystudios.ca/wp-content/uploads/2025/10/B209-Beginner_stained_glass-Panel1-scaled.jpg
ORGANIZER;CN="Glasstronomy Studios":MAILTO:info@glasstronomystudios.ca
END:VEVENT
BEGIN:VEVENT
DTSTART;TZID=America/Toronto:20260207T100000
DTEND;TZID=America/Toronto:20260207T160000
DTSTAMP:20260424T185140
CREATED:20251219T013826Z
LAST-MODIFIED:20251219T114538Z
UID:6550-1770458400-1770480000@glasstronomystudios.ca
SUMMARY:WORKSHOP | I461 | Seasonal fused glass garden stake series: Winter nights (February 7\, 2026)
DESCRIPTION:
URL:https://glasstronomystudios.ca/event/workshop-i461-seasonal-fused-glass-garden-stake-series-winter-nights-february-7-2026/
LOCATION:Glasstronomy Studios\, 2600 John St.\, Unit 108\, Markham\, ON\, L3R 3W3\, Canada
CATEGORIES:Workshops
ATTACH;FMTTYPE=image/jpeg:https://glasstronomystudios.ca/wp-content/uploads/2025/12/I461-Seasonal_fused_glass_garden_stake_series-Winter_nights-scaled.jpg
ORGANIZER;CN="Glasstronomy Studios":MAILTO:info@glasstronomystudios.ca
END:VEVENT
BEGIN:VEVENT
DTSTART;TZID=America/Toronto:20260210T190000
DTEND;TZID=America/Toronto:20260210T220000
DTSTAMP:20260424T185140
CREATED:20260107T115909Z
LAST-MODIFIED:20260107T122517Z
UID:6579-1770750000-1770760800@glasstronomystudios.ca
SUMMARY:Tuesday | Studio time
DESCRIPTION:
URL:https://glasstronomystudios.ca/event/tuesday-studio-time-19/
LOCATION:Glasstronomy Studios\, 2600 John St.\, Unit 108\, Markham\, ON\, L3R 3W3\, Canada
CATEGORIES:Tuesday | Studio time
ATTACH;FMTTYPE=image/jpeg:https://glasstronomystudios.ca/wp-content/uploads/2019/11/G114.jpg
ORGANIZER;CN="Glasstronomy Studios":MAILTO:info@glasstronomystudios.ca
END:VEVENT
BEGIN:VEVENT
DTSTART;TZID=America/Toronto:20260212T110000
DTEND;TZID=America/Toronto:20260212T120000
DTSTAMP:20260424T185140
CREATED:20260205T133608Z
LAST-MODIFIED:20260205T212330Z
UID:6649-1770894000-1770897600@glasstronomystudios.ca
SUMMARY:SBAM III Meeting
DESCRIPTION:
URL:https://glasstronomystudios.ca/event/sbam-iii-meeting-2/
LOCATION:Glasstronomy Studios\, 2600 John St.\, Unit 108\, Markham\, ON\, L3R 3W3\, Canada
CATEGORIES:SBAM
ATTACH;FMTTYPE=image/jpeg:https://glasstronomystudios.ca/wp-content/uploads/2023/02/gS_SBAM_Web_BeKiKu3.jpg
ORGANIZER;CN="Glasstronomy Studios":MAILTO:info@glasstronomystudios.ca
END:VEVENT
BEGIN:VEVENT
DTSTART;TZID=America/Toronto:20260212T130000
DTEND;TZID=America/Toronto:20260212T160000
DTSTAMP:20260424T185140
CREATED:20260107T122107Z
LAST-MODIFIED:20260107T122107Z
UID:6598-1770901200-1770912000@glasstronomystudios.ca
SUMMARY:Thursday | Studio time
DESCRIPTION:
URL:https://glasstronomystudios.ca/event/thursday-studio-time-19/
LOCATION:Glasstronomy Studios\, 2600 John St.\, Unit 108\, Markham\, ON\, L3R 3W3\, Canada
CATEGORIES:Thursday | Studio time
ATTACH;FMTTYPE=image/jpeg:https://glasstronomystudios.ca/wp-content/uploads/2018/08/G114_Open_studio2.jpg
ORGANIZER;CN="Glasstronomy Studios":MAILTO:info@glasstronomystudios.ca
END:VEVENT
BEGIN:VEVENT
DTSTART;TZID=America/Toronto:20260212T190000
DTEND;TZID=America/Toronto:20260212T220000
DTSTAMP:20260424T185140
CREATED:20251022T143354Z
LAST-MODIFIED:20251219T114710Z
UID:6315-1770922800-1770933600@glasstronomystudios.ca
SUMMARY:COURSE | B209 | Beginner stained glass: Lead came technique (February 5\, 12\, 19\, and 26\, 2026)
DESCRIPTION:
URL:https://glasstronomystudios.ca/event/course-b209-beginner-stained-glass-lead-came-technique-february-5-12-19-and-26-2026-2/
LOCATION:Glasstronomy Studios\, 2600 John St.\, Unit 108\, Markham\, ON\, L3R 3W3\, Canada
CATEGORIES:Courses
ATTACH;FMTTYPE=image/jpeg:https://glasstronomystudios.ca/wp-content/uploads/2025/10/B209-Beginner_stained_glass-Panel1-scaled.jpg
ORGANIZER;CN="Glasstronomy Studios":MAILTO:info@glasstronomystudios.ca
END:VEVENT
BEGIN:VEVENT
DTSTART;TZID=America/Toronto:20260213T190000
DTEND;TZID=America/Toronto:20260213T210000
DTSTAMP:20260424T185140
CREATED:20251219T021102Z
LAST-MODIFIED:20260127T202511Z
UID:6566-1771009200-1771016400@glasstronomystudios.ca
SUMMARY:WORKSHOP (FULL) | B243 | Valentine’s hot glass date night: A night of hot glass combing (February 13\, 2026)
DESCRIPTION:
URL:https://glasstronomystudios.ca/event/workshop-b243-valentines-hot-glass-date-night-a-night-of-hot-glass-combing-february-13-2026/
LOCATION:Glasstronomy Studios\, 2600 John St.\, Unit 108\, Markham\, ON\, L3R 3W3\, Canada
CATEGORIES:Workshops
ATTACH;FMTTYPE=image/jpeg:https://glasstronomystudios.ca/wp-content/uploads/2025/12/gS_Date_night.jpg
ORGANIZER;CN="Glasstronomy Studios":MAILTO:info@glasstronomystudios.ca
END:VEVENT
BEGIN:VEVENT
DTSTART;TZID=America/Toronto:20260214T100000
DTEND;TZID=America/Toronto:20260214T160000
DTSTAMP:20260424T185140
CREATED:20251219T014122Z
LAST-MODIFIED:20251219T115138Z
UID:6552-1771063200-1771084800@glasstronomystudios.ca
SUMMARY:WORKSHOP | I462 | Stained glass technique: Heart shaped terrarium
DESCRIPTION:
URL:https://glasstronomystudios.ca/event/workshop-i462-stained-glass-technique-heart-shaped-terrarium/
LOCATION:Glasstronomy Studios\, 2600 John St.\, Unit 108\, Markham\, ON\, L3R 3W3\, Canada
CATEGORIES:Workshops
ATTACH;FMTTYPE=image/jpeg:https://glasstronomystudios.ca/wp-content/uploads/2025/12/I462-Stained_glass_technique-Heart_shaped_terrariumC-scaled.jpg
ORGANIZER;CN="Glasstronomy Studios":MAILTO:info@glasstronomystudios.ca
END:VEVENT
BEGIN:VEVENT
DTSTART;TZID=America/Toronto:20260217T130000
DTEND;TZID=America/Toronto:20260217T160000
DTSTAMP:20260424T185140
CREATED:20260107T125606Z
LAST-MODIFIED:20260107T125712Z
UID:6625-1771333200-1771344000@glasstronomystudios.ca
SUMMARY:St. Andrew’s College | Landscapes
DESCRIPTION:
URL:https://glasstronomystudios.ca/event/st-andrews-college/
LOCATION:Glasstronomy Studios\, 2600 John St.\, Unit 108\, Markham\, ON\, L3R 3W3\, Canada
CATEGORIES:School groups
ATTACH;FMTTYPE=image/jpeg:https://glasstronomystudios.ca/wp-content/uploads/2023/06/G194S-Fused_glass_landscape5.jpg
ORGANIZER;CN="Glasstronomy Studios":MAILTO:info@glasstronomystudios.ca
END:VEVENT
BEGIN:VEVENT
DTSTART;TZID=America/Toronto:20260217T190000
DTEND;TZID=America/Toronto:20260217T220000
DTSTAMP:20260424T185140
CREATED:20260107T123202Z
LAST-MODIFIED:20260107T123202Z
UID:6605-1771354800-1771365600@glasstronomystudios.ca
SUMMARY:Tuesday | Studio time
DESCRIPTION:
URL:https://glasstronomystudios.ca/event/tuesday-studio-time-26/
LOCATION:Glasstronomy Studios\, 2600 John St.\, Unit 108\, Markham\, ON\, L3R 3W3\, Canada
CATEGORIES:Tuesday | Studio time
ATTACH;FMTTYPE=image/jpeg:https://glasstronomystudios.ca/wp-content/uploads/2019/11/G114.jpg
ORGANIZER;CN="Glasstronomy Studios":MAILTO:info@glasstronomystudios.ca
END:VEVENT
BEGIN:VEVENT
DTSTART;TZID=America/Toronto:20260219T130000
DTEND;TZID=America/Toronto:20260219T160000
DTSTAMP:20260424T185140
CREATED:20260107T122255Z
LAST-MODIFIED:20260107T122358Z
UID:6600-1771506000-1771516800@glasstronomystudios.ca
SUMMARY:Thursday | Studio time
DESCRIPTION:
URL:https://glasstronomystudios.ca/event/tuesday-studio-time-25/
LOCATION:Glasstronomy Studios\, 2600 John St.\, Unit 108\, Markham\, ON\, L3R 3W3\, Canada
CATEGORIES:Thursday | Studio time
ATTACH;FMTTYPE=image/jpeg:https://glasstronomystudios.ca/wp-content/uploads/2018/08/G114_Open_studio2.jpg
ORGANIZER;CN="Glasstronomy Studios":MAILTO:info@glasstronomystudios.ca
END:VEVENT
BEGIN:VEVENT
DTSTART;TZID=America/Toronto:20260219T190000
DTEND;TZID=America/Toronto:20260219T220000
DTSTAMP:20260424T185140
CREATED:20251022T143522Z
LAST-MODIFIED:20251219T115221Z
UID:6317-1771527600-1771538400@glasstronomystudios.ca
SUMMARY:COURSE | B209 | Beginner stained glass: Lead came technique (February 5\, 12\, 19\, and 26\, 2026)
DESCRIPTION:
URL:https://glasstronomystudios.ca/event/course-b209-beginner-stained-glass-lead-came-technique-february-5-12-19-and-26-2026-3/
LOCATION:Glasstronomy Studios\, 2600 John St.\, Unit 108\, Markham\, ON\, L3R 3W3\, Canada
CATEGORIES:Courses
ATTACH;FMTTYPE=image/jpeg:https://glasstronomystudios.ca/wp-content/uploads/2025/10/B209-Beginner_stained_glass-Panel1-scaled.jpg
ORGANIZER;CN="Glasstronomy Studios":MAILTO:info@glasstronomystudios.ca
END:VEVENT
BEGIN:VEVENT
DTSTART;TZID=America/Toronto:20260224T190000
DTEND;TZID=America/Toronto:20260224T220000
DTSTAMP:20260424T185140
CREATED:20260107T121942Z
LAST-MODIFIED:20260107T122606Z
UID:6596-1771959600-1771970400@glasstronomystudios.ca
SUMMARY:Tuesday | Studio time
DESCRIPTION:
URL:https://glasstronomystudios.ca/event/tuesday-studio-time-24/
LOCATION:Glasstronomy Studios\, 2600 John St.\, Unit 108\, Markham\, ON\, L3R 3W3\, Canada
CATEGORIES:Tuesday | Studio time
ATTACH;FMTTYPE=image/jpeg:https://glasstronomystudios.ca/wp-content/uploads/2019/11/G114.jpg
ORGANIZER;CN="Glasstronomy Studios":MAILTO:info@glasstronomystudios.ca
END:VEVENT
BEGIN:VEVENT
DTSTART;TZID=America/Toronto:20260226T130000
DTEND;TZID=America/Toronto:20260226T160000
DTSTAMP:20260424T185140
CREATED:20260107T123503Z
LAST-MODIFIED:20260107T123503Z
UID:6607-1772110800-1772121600@glasstronomystudios.ca
SUMMARY:Thursday | Studio time
DESCRIPTION:
URL:https://glasstronomystudios.ca/event/thursday-studio-time-21/
LOCATION:Glasstronomy Studios\, 2600 John St.\, Unit 108\, Markham\, ON\, L3R 3W3\, Canada
CATEGORIES:Thursday | Studio time
ATTACH;FMTTYPE=image/jpeg:https://glasstronomystudios.ca/wp-content/uploads/2018/08/G114_Open_studio2.jpg
ORGANIZER;CN="Glasstronomy Studios":MAILTO:info@glasstronomystudios.ca
END:VEVENT
BEGIN:VEVENT
DTSTART;TZID=America/Toronto:20260226T190000
DTEND;TZID=America/Toronto:20260226T220000
DTSTAMP:20260424T185140
CREATED:20251022T143634Z
LAST-MODIFIED:20251219T115550Z
UID:6319-1772132400-1772143200@glasstronomystudios.ca
SUMMARY:COURSE | B209 | Beginner stained glass: Lead came technique (February 5\, 12\, 19\, and 26\, 2026)
DESCRIPTION:
URL:https://glasstronomystudios.ca/event/course-b209-beginner-stained-glass-lead-came-technique-february-5-12-19-and-26-2026-4/
LOCATION:Glasstronomy Studios\, 2600 John St.\, Unit 108\, Markham\, ON\, L3R 3W3\, Canada
CATEGORIES:Courses
ATTACH;FMTTYPE=image/jpeg:https://glasstronomystudios.ca/wp-content/uploads/2025/10/B209-Beginner_stained_glass-Panel1-scaled.jpg
ORGANIZER;CN="Glasstronomy Studios":MAILTO:info@glasstronomystudios.ca
END:VEVENT
BEGIN:VEVENT
DTSTART;TZID=America/Toronto:20260303T190000
DTEND;TZID=America/Toronto:20260303T220000
DTSTAMP:20260424T185140
CREATED:20260107T123737Z
LAST-MODIFIED:20260107T123737Z
UID:6609-1772564400-1772575200@glasstronomystudios.ca
SUMMARY:Tuesday | Studio time
DESCRIPTION:
URL:https://glasstronomystudios.ca/event/tuesday-studio-time-27/
LOCATION:Glasstronomy Studios\, 2600 John St.\, Unit 108\, Markham\, ON\, L3R 3W3\, Canada
CATEGORIES:Tuesday | Studio time
ATTACH;FMTTYPE=image/jpeg:https://glasstronomystudios.ca/wp-content/uploads/2019/11/G114.jpg
ORGANIZER;CN="Glasstronomy Studios":MAILTO:info@glasstronomystudios.ca
END:VEVENT
BEGIN:VEVENT
DTSTART;TZID=America/Toronto:20260305T130000
DTEND;TZID=America/Toronto:20260305T160000
DTSTAMP:20260424T185140
CREATED:20260107T123903Z
LAST-MODIFIED:20260107T123903Z
UID:6611-1772715600-1772726400@glasstronomystudios.ca
SUMMARY:Thursday | Studio time
DESCRIPTION:
URL:https://glasstronomystudios.ca/event/thursday-studio-time-22/
LOCATION:Glasstronomy Studios\, 2600 John St.\, Unit 108\, Markham\, ON\, L3R 3W3\, Canada
CATEGORIES:Thursday | Studio time
ATTACH;FMTTYPE=image/jpeg:https://glasstronomystudios.ca/wp-content/uploads/2018/08/G114_Open_studio2.jpg
ORGANIZER;CN="Glasstronomy Studios":MAILTO:info@glasstronomystudios.ca
END:VEVENT
BEGIN:VEVENT
DTSTART;TZID=America/Toronto:20260305T190000
DTEND;TZID=America/Toronto:20260305T220000
DTSTAMP:20260424T185140
CREATED:20251219T010353Z
LAST-MODIFIED:20260127T203247Z
UID:6526-1772737200-1772748000@glasstronomystudios.ca
SUMMARY:COURSE (FULL) | A446 | Tiffany-style stained glass: Animal lamp (March 5\, 12\, 19\, and 26\, 2026)
DESCRIPTION:
URL:https://glasstronomystudios.ca/event/course-a446-tiffany-style-stained-glass-animal-lamp-march-5-12-19-and-26-2026/
LOCATION:Glasstronomy Studios\, 2600 John St.\, Unit 108\, Markham\, ON\, L3R 3W3\, Canada
CATEGORIES:Courses
ATTACH;FMTTYPE=image/jpeg:https://glasstronomystudios.ca/wp-content/uploads/2025/12/A446-Tiffany-style_stained_glass-Animal_lampE-scaled.jpg
ORGANIZER;CN="Glasstronomy Studios":MAILTO:info@glasstronomystudios.ca
END:VEVENT
BEGIN:VEVENT
DTSTART;TZID=America/Toronto:20260307T100000
DTEND;TZID=America/Toronto:20260307T160000
DTSTAMP:20260424T185140
CREATED:20251203T221305Z
LAST-MODIFIED:20251219T120052Z
UID:6441-1772877600-1772899200@glasstronomystudios.ca
SUMMARY:WORKSHOP | G230 | Introduction to stained glass: Suncatcher (March 7\, 2026)
DESCRIPTION:
URL:https://glasstronomystudios.ca/event/workshop-g230-introduction-to-stained-glass-suncatcher-march-7-2026/
LOCATION:Glasstronomy Studios\, 2600 John St.\, Unit 108\, Markham\, ON\, L3R 3W3\, Canada
CATEGORIES:Workshops
ATTACH;FMTTYPE=image/jpeg:https://glasstronomystudios.ca/wp-content/uploads/2018/08/B222_Beginner_stained_glass.jpg
ORGANIZER;CN="Glasstronomy Studios":MAILTO:info@glasstronomystudios.ca
END:VEVENT
BEGIN:VEVENT
DTSTART;TZID=America/Toronto:20260310T190000
DTEND;TZID=America/Toronto:20260310T220000
DTSTAMP:20260424T185140
CREATED:20260107T124113Z
LAST-MODIFIED:20260107T124113Z
UID:6613-1773169200-1773180000@glasstronomystudios.ca
SUMMARY:Tuesday | Studio time
DESCRIPTION:
URL:https://glasstronomystudios.ca/event/tuesday-studio-time-28/
LOCATION:Glasstronomy Studios\, 2600 John St.\, Unit 108\, Markham\, ON\, L3R 3W3\, Canada
CATEGORIES:Tuesday | Studio time
ATTACH;FMTTYPE=image/jpeg:https://glasstronomystudios.ca/wp-content/uploads/2019/11/G114.jpg
ORGANIZER;CN="Glasstronomy Studios":MAILTO:info@glasstronomystudios.ca
END:VEVENT
BEGIN:VEVENT
DTSTART;TZID=America/Toronto:20260312T110000
DTEND;TZID=America/Toronto:20260312T120000
DTSTAMP:20260424T185140
CREATED:20260223T105052Z
LAST-MODIFIED:20260223T105052Z
UID:6652-1773313200-1773316800@glasstronomystudios.ca
SUMMARY:SBAM III Meeting
DESCRIPTION:
URL:https://glasstronomystudios.ca/event/sbam-iii-meeting-3/
LOCATION:Glasstronomy Studios\, 2600 John St.\, Unit 108\, Markham\, ON\, L3R 3W3\, Canada
CATEGORIES:SBAM
ATTACH;FMTTYPE=image/jpeg:https://glasstronomystudios.ca/wp-content/uploads/2023/02/gS_SBAM_Web_BeKiKu3.jpg
ORGANIZER;CN="Glasstronomy Studios":MAILTO:info@glasstronomystudios.ca
END:VEVENT
BEGIN:VEVENT
DTSTART;TZID=America/Toronto:20260312T130000
DTEND;TZID=America/Toronto:20260312T160000
DTSTAMP:20260424T185140
CREATED:20260107T124333Z
LAST-MODIFIED:20260107T124333Z
UID:6615-1773320400-1773331200@glasstronomystudios.ca
SUMMARY:Thursday | Studio time
DESCRIPTION:
URL:https://glasstronomystudios.ca/event/thursday-studio-time-23/
LOCATION:Glasstronomy Studios\, 2600 John St.\, Unit 108\, Markham\, ON\, L3R 3W3\, Canada
CATEGORIES:Thursday | Studio time
ATTACH;FMTTYPE=image/jpeg:https://glasstronomystudios.ca/wp-content/uploads/2018/08/G114_Open_studio2.jpg
ORGANIZER;CN="Glasstronomy Studios":MAILTO:info@glasstronomystudios.ca
END:VEVENT
BEGIN:VEVENT
DTSTART;TZID=America/Toronto:20260312T190000
DTEND;TZID=America/Toronto:20260312T220000
DTSTAMP:20260424T185140
CREATED:20251219T010720Z
LAST-MODIFIED:20260127T203404Z
UID:6529-1773342000-1773352800@glasstronomystudios.ca
SUMMARY:COURSE (FULL) | A446 | Tiffany-style stained glass: Animal lamp (March 5\, 12\, 19\, and 26\, 2026)
DESCRIPTION:
URL:https://glasstronomystudios.ca/event/course-a446-tiffany-style-stained-glass-animal-lamp-march-5-12-19-and-26-2026-2/
LOCATION:Glasstronomy Studios\, 2600 John St.\, Unit 108\, Markham\, ON\, L3R 3W3\, Canada
CATEGORIES:Courses
ATTACH;FMTTYPE=image/jpeg:https://glasstronomystudios.ca/wp-content/uploads/2025/12/A446-Tiffany-style_stained_glass-Animal_lampE-scaled.jpg
ORGANIZER;CN="Glasstronomy Studios":MAILTO:info@glasstronomystudios.ca
END:VEVENT
BEGIN:VEVENT
DTSTART;TZID=America/Toronto:20260313T190000
DTEND;TZID=America/Toronto:20260313T210000
DTSTAMP:20260424T185140
CREATED:20251219T020802Z
LAST-MODIFIED:20260106T103123Z
UID:6564-1773428400-1773435600@glasstronomystudios.ca
SUMMARY:WORKSHOP | B242 | Playing with molten glass: A night of hot glass combing (March 13\, 2026)
DESCRIPTION:
URL:https://glasstronomystudios.ca/event/workshop-b242-playing-with-molten-glass-a-night-of-hot-glass-combing-march-13-2026/
LOCATION:Glasstronomy Studios\, 2600 John St.\, Unit 108\, Markham\, ON\, L3R 3W3\, Canada
CATEGORIES:Workshops
ATTACH;FMTTYPE=image/jpeg:https://glasstronomystudios.ca/wp-content/uploads/2025/12/B241-A_night_of_hot_glass_combingE-scaled.jpg
ORGANIZER;CN="Glasstronomy Studios":MAILTO:info@glasstronomystudios.ca
END:VEVENT
BEGIN:VEVENT
DTSTART;TZID=America/Toronto:20260314T100000
DTEND;TZID=America/Toronto:20260314T160000
DTSTAMP:20260424T185140
CREATED:20251219T015925Z
LAST-MODIFIED:20251219T120526Z
UID:6559-1773482400-1773504000@glasstronomystudios.ca
SUMMARY:WORKSHOP | G289 | Fusing fun: Fused glass wobblers (March 14\, 2026)
DESCRIPTION:
URL:https://glasstronomystudios.ca/event/workshop-g289-fusing-fun-fused-glass-wobblers-march-14-2026/
LOCATION:Glasstronomy Studios\, 2600 John St.\, Unit 108\, Markham\, ON\, L3R 3W3\, Canada
CATEGORIES:Workshops
ATTACH;FMTTYPE=image/jpeg:https://glasstronomystudios.ca/wp-content/uploads/2025/12/G289-Fused_glass_wobblers-scaled.jpg
ORGANIZER;CN="Glasstronomy Studios":MAILTO:info@glasstronomystudios.ca
END:VEVENT
END:VCALENDAR