BEGIN:VCALENDAR
VERSION:2.0
PRODID:-//Glasstronomy Studios - ECPv6.15.20//NONSGML v1.0//EN
CALSCALE:GREGORIAN
METHOD:PUBLISH
X-WR-CALNAME:Glasstronomy Studios
X-ORIGINAL-URL:https://glasstronomystudios.ca
X-WR-CALDESC:Events for Glasstronomy Studios
REFRESH-INTERVAL;VALUE=DURATION:PT1H
X-Robots-Tag:noindex
X-PUBLISHED-TTL:PT1H
BEGIN:VTIMEZONE
TZID:America/Toronto
BEGIN:DAYLIGHT
TZOFFSETFROM:-0500
TZOFFSETTO:-0400
TZNAME:EDT
DTSTART:20240310T070000
END:DAYLIGHT
BEGIN:STANDARD
TZOFFSETFROM:-0400
TZOFFSETTO:-0500
TZNAME:EST
DTSTART:20241103T060000
END:STANDARD
BEGIN:DAYLIGHT
TZOFFSETFROM:-0500
TZOFFSETTO:-0400
TZNAME:EDT
DTSTART:20250309T070000
END:DAYLIGHT
BEGIN:STANDARD
TZOFFSETFROM:-0400
TZOFFSETTO:-0500
TZNAME:EST
DTSTART:20251102T060000
END:STANDARD
BEGIN:DAYLIGHT
TZOFFSETFROM:-0500
TZOFFSETTO:-0400
TZNAME:EDT
DTSTART:20260308T070000
END:DAYLIGHT
BEGIN:STANDARD
TZOFFSETFROM:-0400
TZOFFSETTO:-0500
TZNAME:EST
DTSTART:20261101T060000
END:STANDARD
END:VTIMEZONE
BEGIN:VEVENT
DTSTART;TZID=America/Toronto:20251115T100000
DTEND;TZID=America/Toronto:20251115T120000
DTSTAMP:20260424T215652
CREATED:20251022T144125Z
LAST-MODIFIED:20251022T144125Z
UID:6325-1763200800-1763208000@glasstronomystudios.ca
SUMMARY:COURSE | B241 | Beginner stained glass: Holiday edition (November 1\, 8\, and 15\, 2025)
DESCRIPTION:
URL:https://glasstronomystudios.ca/event/course-b241-beginner-stained-glass-holiday-edition-november-1-8-and-15-2025-3/
LOCATION:Glasstronomy Studios\, 2600 John St.\, Unit 108\, Markham\, ON\, L3R 3W3\, Canada
CATEGORIES:Courses
ATTACH;FMTTYPE=image/jpeg:https://glasstronomystudios.ca/wp-content/uploads/2025/10/B241-Beginner_stained_glass-Holiday_edition-scaled.jpg
ORGANIZER;CN="Glasstronomy Studios":MAILTO:info@glasstronomystudios.ca
END:VEVENT
BEGIN:VEVENT
DTSTART;TZID=America/Toronto:20251115T100000
DTEND;TZID=America/Toronto:20251115T120000
DTSTAMP:20260424T215652
CREATED:20251022T145104Z
LAST-MODIFIED:20251022T145104Z
UID:6337-1763200800-1763208000@glasstronomystudios.ca
SUMMARY:WORKSHOP | G308 | Glass and clay holiday ornaments (November 8 and 15\, 2025)
DESCRIPTION:
URL:https://glasstronomystudios.ca/event/workshop-g308-glass-and-clay-holiday-ornaments-november-8-and-15-2025-2/
LOCATION:ON
CATEGORIES:Workshops
ATTACH;FMTTYPE=image/jpeg:https://glasstronomystudios.ca/wp-content/uploads/2025/10/G308-Glass_and_clay_holiday_ornamentsB-scaled.jpg
END:VEVENT
BEGIN:VEVENT
DTSTART;TZID=America/Toronto:20251115T130000
DTEND;TZID=America/Toronto:20251115T160000
DTSTAMP:20260424T215652
CREATED:20251022T145409Z
LAST-MODIFIED:20251022T145409Z
UID:6341-1763211600-1763222400@glasstronomystudios.ca
SUMMARY:WORKSHOP | A445 | Fused glass technique: Winter woods (November 8\, 15\, and 22\, 2025)
DESCRIPTION:
URL:https://glasstronomystudios.ca/event/workshop-a445-fused-glass-technique-winter-woods-november-8-15-and-22-2025-2/
LOCATION:Glasstronomy Studios\, 2600 John St.\, Unit 108\, Markham\, ON\, L3R 3W3\, Canada
CATEGORIES:Workshops
ATTACH;FMTTYPE=image/jpeg:https://glasstronomystudios.ca/wp-content/uploads/2025/10/A445-Winter_woods-scaled.jpg
ORGANIZER;CN="Glasstronomy Studios":MAILTO:info@glasstronomystudios.ca
END:VEVENT
END:VCALENDAR