BEGIN:VCALENDAR
VERSION:2.0
PRODID:-//Glasstronomy Studios - ECPv6.15.20//NONSGML v1.0//EN
CALSCALE:GREGORIAN
METHOD:PUBLISH
X-ORIGINAL-URL:https://glasstronomystudios.ca
X-WR-CALDESC:Events for Glasstronomy Studios
REFRESH-INTERVAL;VALUE=DURATION:PT1H
X-Robots-Tag:noindex
X-PUBLISHED-TTL:PT1H
BEGIN:VTIMEZONE
TZID:America/Toronto
BEGIN:DAYLIGHT
TZOFFSETFROM:-0500
TZOFFSETTO:-0400
TZNAME:EDT
DTSTART:20240310T070000
END:DAYLIGHT
BEGIN:STANDARD
TZOFFSETFROM:-0400
TZOFFSETTO:-0500
TZNAME:EST
DTSTART:20241103T060000
END:STANDARD
BEGIN:DAYLIGHT
TZOFFSETFROM:-0500
TZOFFSETTO:-0400
TZNAME:EDT
DTSTART:20250309T070000
END:DAYLIGHT
BEGIN:STANDARD
TZOFFSETFROM:-0400
TZOFFSETTO:-0500
TZNAME:EST
DTSTART:20251102T060000
END:STANDARD
BEGIN:DAYLIGHT
TZOFFSETFROM:-0500
TZOFFSETTO:-0400
TZNAME:EDT
DTSTART:20260308T070000
END:DAYLIGHT
BEGIN:STANDARD
TZOFFSETFROM:-0400
TZOFFSETTO:-0500
TZNAME:EST
DTSTART:20261101T060000
END:STANDARD
END:VTIMEZONE
BEGIN:VEVENT
DTSTART;TZID=America/Toronto:20251113T110000
DTEND;TZID=America/Toronto:20251113T120000
DTSTAMP:20260424T213945
CREATED:20251015T230500Z
LAST-MODIFIED:20251015T230500Z
UID:6199-1763031600-1763035200@glasstronomystudios.ca
SUMMARY:SBAM II | Meeting
DESCRIPTION:
URL:https://glasstronomystudios.ca/event/sbam-ii-meeting-3/
LOCATION:Glasstronomy Studios\, 2600 John St.\, Unit 108\, Markham\, ON\, L3R 3W3\, Canada
CATEGORIES:SBAM
ATTACH;FMTTYPE=image/jpeg:https://glasstronomystudios.ca/wp-content/uploads/2023/02/gS_SBAM_Web_BeKiKu3.jpg
ORGANIZER;CN="Glasstronomy Studios":MAILTO:info@glasstronomystudios.ca
END:VEVENT
BEGIN:VEVENT
DTSTART;TZID=America/Toronto:20251113T130000
DTEND;TZID=America/Toronto:20251113T160000
DTSTAMP:20260424T213945
CREATED:20251016T014803Z
LAST-MODIFIED:20251016T014803Z
UID:6249-1763038800-1763049600@glasstronomystudios.ca
SUMMARY:Thursday | Studio time
DESCRIPTION:
URL:https://glasstronomystudios.ca/event/thursday-studio-time-10/
LOCATION:Glasstronomy Studios\, 2600 John St.\, Unit 108\, Markham\, ON\, L3R 3W3\, Canada
CATEGORIES:Thursday | Studio time
ATTACH;FMTTYPE=image/jpeg:https://glasstronomystudios.ca/wp-content/uploads/2015/03/G114.jpg
ORGANIZER;CN="Glasstronomy Studios":MAILTO:info@glasstronomystudios.ca
END:VEVENT
BEGIN:VEVENT
DTSTART;TZID=America/Toronto:20251113T190000
DTEND;TZID=America/Toronto:20251113T220000
DTSTAMP:20260424T213945
CREATED:20251015T214012Z
LAST-MODIFIED:20251023T093612Z
UID:6170-1763060400-1763071200@glasstronomystudios.ca
SUMMARY:COURSE | A443 | Bigger IS better: Holiday edition (November 6\, 13\, 20\, and 27\, 2025)
DESCRIPTION:
URL:https://glasstronomystudios.ca/event/course-a443-bigger-is-better-holiday-edition-november-6-13-20-and-27-2025-2/
LOCATION:Glasstronomy Studios\, 2600 John St.\, Unit 108\, Markham\, ON\, L3R 3W3\, Canada
CATEGORIES:Courses
ATTACH;FMTTYPE=image/jpeg:https://glasstronomystudios.ca/wp-content/uploads/2025/10/A443-Bigger_IS_betterE.jpg
ORGANIZER;CN="Glasstronomy Studios":MAILTO:info@glasstronomystudios.ca
END:VEVENT
END:VCALENDAR